{
 "currentVersion": 10.9,
 "cimVersion": "2.7.0",
 "serviceDescription": "",
 "mapName": "Inundation2050",
 "description": "",
 "copyrightText": "",
 "supportsDynamicLayers": true,
 "layers": [
  {
   "id": 0,
   "name": "Flood Inundation 2050",
   "parentLayerId": -1,
   "defaultVisibility": true,
   "subLayerIds": null,
   "minScale": 0,
   "maxScale": 0,
   "type": "Feature Layer",
   "geometryType": "esriGeometryPoint",
   "supportsDynamicLegends": true
  }
 ],
 "tables": [],
 "spatialReference": {
  "wkid": 26986,
  "latestWkid": 26986,
  "xyTolerance": 0.001,
  "zTolerance": 0.001,
  "mTolerance": 0.001,
  "falseX": -36530900,
  "falseY": -28803200,
  "xyUnits": 10000,
  "falseZ": -100000,
  "zUnits": 10000,
  "falseM": -100000,
  "mUnits": 10000
 },
 "singleFusedMapCache": true,
 "tileInfo": {
  "rows": 256,
  "cols": 256,
  "dpi": 96,
  "format": "PNG",
  "compressionQuality": 0,
  "origin": {
   "x": -3.653070448356929E7,
   "y": 3.572748920094322E7
  },
  "spatialReference": {
   "wkid": 26986,
   "latestWkid": 26986,
   "xyTolerance": 0.001,
   "zTolerance": 0.001,
   "mTolerance": 0.001,
   "falseX": -36530900,
   "falseY": -28803200,
   "xyUnits": 10000,
   "falseZ": -100000,
   "zUnits": 10000,
   "falseM": -100000,
   "mUnits": 10000
  },
  "lods": [
   {
    "level": 0,
    "resolution": 286958.62877788505,
    "scale": 1.0845680457746835E9
   },
   {
    "level": 1,
    "resolution": 143479.31438894253,
    "scale": 5.422840228873417E8
   },
   {
    "level": 2,
    "resolution": 71739.65719447126,
    "scale": 2.7114201144367087E8
   },
   {
    "level": 3,
    "resolution": 35869.82859723563,
    "scale": 1.3557100572183543E8
   },
   {
    "level": 4,
    "resolution": 17934.914298617816,
    "scale": 6.778550286091772E7
   },
   {
    "level": 5,
    "resolution": 8967.457149308908,
    "scale": 3.389275143045886E7
   },
   {
    "level": 6,
    "resolution": 4483.728574654454,
    "scale": 1.694637571522943E7
   },
   {
    "level": 7,
    "resolution": 2241.864287327227,
    "scale": 8473187.857614715
   },
   {
    "level": 8,
    "resolution": 1120.9321436636135,
    "scale": 4236593.928807357
   },
   {
    "level": 9,
    "resolution": 560.4660718318067,
    "scale": 2118296.9644036787
   },
   {
    "level": 10,
    "resolution": 280.2330359159034,
    "scale": 1059148.4822018393
   },
   {
    "level": 11,
    "resolution": 140.1165179579517,
    "scale": 529574.2411009197
   },
   {
    "level": 12,
    "resolution": 70.05825897897584,
    "scale": 264787.12055045983
   },
   {
    "level": 13,
    "resolution": 35.02912948948792,
    "scale": 132393.56027522992
   },
   {
    "level": 14,
    "resolution": 17.51456474474396,
    "scale": 66196.78013761496
   },
   {
    "level": 15,
    "resolution": 8.75728237237198,
    "scale": 33098.39006880748
   },
   {
    "level": 16,
    "resolution": 4.37864118618599,
    "scale": 16549.19503440374
   },
   {
    "level": 17,
    "resolution": 2.189320593092995,
    "scale": 8274.59751720187
   },
   {
    "level": 18,
    "resolution": 1.0946602965464975,
    "scale": 4137.298758600935
   }
  ]
 },
 "initialExtent": {
  "xmin": 230771.1885708082,
  "ymin": 804456.0112399993,
  "xmax": 367046.1643291902,
  "ymax": 873824.6437599981,
  "spatialReference": {
   "wkid": 26986,
   "latestWkid": 26986,
   "xyTolerance": 0.001,
   "zTolerance": 0.001,
   "mTolerance": 0.001,
   "falseX": -36530900,
   "falseY": -28803200,
   "xyUnits": 10000,
   "falseZ": -100000,
   "zUnits": 10000,
   "falseM": -100000,
   "mUnits": 10000
  }
 },
 "fullExtent": {
  "xmin": 267860.4397,
  "ymin": 807609.1308999993,
  "xmax": 329956.91319999844,
  "ymax": 870671.5240999982,
  "spatialReference": {
   "wkid": 26986,
   "latestWkid": 26986,
   "xyTolerance": 0.001,
   "zTolerance": 0.001,
   "mTolerance": 0.001,
   "falseX": -36530900,
   "falseY": -28803200,
   "xyUnits": 10000,
   "falseZ": -100000,
   "zUnits": 10000,
   "falseM": -100000,
   "mUnits": 10000
  }
 },
 "minScale": 1059148.4822018393,
 "maxScale": 8274.59751720187,
 "minLOD": 10,
 "maxLOD": 17,
 "units": "esriMeters",
 "supportedImageFormatTypes": "PNG32,PNG24,PNG,JPG,DIB,TIFF,EMF,PS,PDF,GIF,SVG,SVGZ,BMP",
 "documentInfo": {
  "Title": "Risk2070",
  "Author": "",
  "Comments": "",
  "Subject": "",
  "Category": "",
  "AntialiasingMode": "None",
  "TextAntialiasingMode": "Force",
  "Version": "2.7.0",
  "Keywords": "Low lying roads,Cape Cod Commission"
 },
 "capabilities": "Map,Query,Data",
 "supportedQueryFormats": "JSON, geoJSON, PBF",
 "exportTilesAllowed": false,
 "referenceScale": 0.0,
 "datumTransformations": [
  {
   "geoTransforms": [
    {
     "wkid": 108190,
     "latestWkid": 108190,
     "transformForward": true,
     "name": "WGS_1984_(ITRF00)_To_NAD_1983"
    }
   ]
  },
  {
   "geoTransforms": [
    {
     "wkid": 108190,
     "latestWkid": 108190,
     "transformForward": false,
     "name": "WGS_1984_(ITRF00)_To_NAD_1983"
    }
   ]
  }
 ],
 "supportsDatumTransformation": true,
 "archivingInfo": {
  "supportsHistoricMoment": false
 },
 "supportsClipping": true,
 "supportsSpatialFilter": true,
 "supportsTimeRelation": true,
 "supportsQueryDataElements": true,
 "maxRecordCount": 20000,
 "maxImageHeight": 4096,
 "maxImageWidth": 4096,
 "supportedExtensions": ""
}
