View In:
ArcGIS JavaScript
ArcGIS Online Map Viewer
ArcGIS Earth
ArcMap
View Footprint In:
ArcGIS Online Map Viewer
Service Description: Imagery/Ortho_2020_TC
Name: Imagery/Ortho_2020_TC
Description:
Single Fused Map Cache: true
Tile Info:
- Height: 256
- Width: 256
- DPI: 96
-
Levels of Detail: 24
-
Level ID: 1
[ Start Tile, End Tile ]
- Resolution: 78271.5169639999
- Scale: 2.95828763795777E8
-
Level ID: 2
[ Start Tile, End Tile ]
- Resolution: 39135.7584820001
- Scale: 1.47914381897889E8
-
Level ID: 3
[ Start Tile, End Tile ]
- Resolution: 19567.8792409999
- Scale: 7.3957190948944E7
-
Level ID: 4
[ Start Tile, End Tile ]
- Resolution: 9783.93962049996
- Scale: 3.6978595474472E7
-
Level ID: 5
[ Start Tile, End Tile ]
- Resolution: 4891.96981024998
- Scale: 1.8489297737236E7
- Format: PNG8
- Compression Quality: 0.0
- LERC Error: NaN
- Origin: X: -2.0037508342787E7
Y: 2.0037508342787E7
- Spatial Reference: 102100
(3857)
Extent:
XMin: -7872246.646484441
YMin: 5086639.009100433
XMax: -7782206.53877186
YMax: 5175082.621489266
Spatial Reference: 102100
(3857)
Initial Extent:
XMin: -7872246.646484441
YMin: 5086639.009100433
XMax: -7782206.53877186
YMax: 5175082.621489266
Spatial Reference: 102100
(3857)
Full Extent:
XMin: -7872246.646484441
YMin: 5086639.009100433
XMax: -7782206.53877186
YMax: 5175082.621489266
Spatial Reference: 102100
(3857)
Pixel Size X: 0.07501805408462434
Pixel Size Y: 0.07501805408462435
Band Count: 5
Pixel Type: U8
RasterFunction Infos: {"rasterFunctionInfos": [{
"name": "None",
"description": "",
"help": ""
}]}
Mensuration Capabilities: Basic
Has Histograms: true
Has Colormap: false
Has Multi Dimensions : false
Rendering Rule:
Min Scale: 577790.554289
Max Scale: 2256.994353
Min LOD: 10
Max LOD: 18
Copyright Text:
Service Data Type: esriImageServiceDataTypeGeneric
Min Values: 0, 0, 0, 0, 0
Max Values: 216, 212, 187, 244, 255
Mean Values: 25.649545772187, 28.895527603075, 25.88644304682, 38.784765897973, 81.205450733753
Standard Deviation Values: 40.543406587917, 43.8712212512, 38.97779337849, 64.028097583415, 116.45969241035
Object ID Field:
Fields:
None
Default Mosaic Method: Center
Allowed Mosaic Methods:
SortField:
SortValue: null
Mosaic Operator: First
Default Compression Quality: 75
Default Resampling Method: Bilinear
Max Record Count: null
Max Image Height: 4100
Max Image Width: 15000
Max Download Image Count: null
Max Mosaic Image Count: null
Allow Raster Function: true
Allow Copy: false
Allow Analysis: true
Allow Compute TiePoints: false
Supports Statistics: false
Supports Advanced Queries: false
Use StandardizedQueries: true
Raster Type Infos:
Name: Raster Dataset
Description: Supports all ArcGIS Raster Datasets
Help:
Has Raster Attribute Table: false
Edit Fields Info: null
Ownership Based AccessControl For Rasters: null
Child Resources:
Info
Histograms
Statistics
Key Properties
Legend
Raster Function Infos
Supported Operations:
Export Image
Identify
Measure
Compute Histograms
Compute Statistics Histograms
Get Samples
Compute Class Statistics
Query Boundary
Compute Pixel Location
Validate
Project