View In:
  ArcGIS JavaScript
  ArcGIS Online Map Viewer
  ArcGIS Earth
  ArcMap
  ArcGIS Pro
View Footprint In:
  ArcGIS Online Map Viewer
Service Description:  
Map Name:  Layers
Legend
All Layers and Tables
Layers: 
Description:  
Copyright Text:   
Spatial Reference: 
102100
 (3857)
Single Fused Map Cache:  true
Tile Info: 
- Height: 256
- Width: 256
- DPI: 96
- 
Levels of Detail:  24
- 
Level ID: 1
[ Start Tile, End Tile ]
- Resolution: 78271.5169639999
- Scale: 2.95828763795777E8
- 
Level ID: 2
[ Start Tile, End Tile ]
- Resolution: 39135.7584820001
- Scale: 1.47914381897889E8
- 
Level ID: 3
[ Start Tile, End Tile ]
- Resolution: 19567.8792409999
- Scale: 7.3957190948944E7
- 
Level ID: 4
[ Start Tile, End Tile ]
- Resolution: 9783.93962049996
- Scale: 3.6978595474472E7
- 
Level ID: 5
[ Start Tile, End Tile ]
- Resolution: 4891.96981024998
- Scale: 1.8489297737236E7
- Format: PNG
- Compression Quality: 0.0
- Origin: X:  -2.0037508342787E7
 Y:  2.0037508342787E7
 
- Spatial Reference: 102100
 (3857)
 
Initial Extent:
XMin: -7925687.708152132
YMin: 5084349.544704999
XMax: -7727601.290347869
YMax: 5177540.772394997
Spatial Reference: 102100
Full Extent:
XMin: -7868918.851500001
YMin: 5088585.509599999
XMax: -7784370.147
YMax: 5173304.807499997
Spatial Reference: 102100
Units: esriMeters
Supported Image Format Types:  PNG32,PNG24,PNG,JPG,DIB,TIFF,EMF,PS,PDF,GIF,SVG,SVGZ,BMP
Document Info: 
Title: APCCHAC_Wetland.aprx
Author: 
Comments: 
Subject: 
Category: 
Keywords: CCC,Wetlands,Wetlands Buffer,APCCHAC
AntialiasingMode: None
TextAntialiasingMode: Force
Supports Dynamic Layers: false
MaxRecordCount:  8000
MaxImageHeight:  4096
MaxImageWidth:  4096
Supported Query Formats:  JSON, geoJSON, PBF
Supports Query Data Elements:  true
Min Scale:  577790.554289
Max Scale:  1128.497176
Min LOD:  10
Max LOD:  19
Supports Datum Transformation:  true
Child Resources:
  
Info
 
Supported Operations:
  
Export Map
  Return Updates