View In:
ArcGIS JavaScript
ArcGIS Online Map Viewer
ArcGIS Earth
ArcMap
ArcGIS Pro
View Footprint In:
ArcGIS Online Map Viewer
Service Description:
Map Name: Inundation2050
Legend
All Layers and Tables
Dynamic Legend
Dynamic All Layers
Layers:
Description:
Copyright Text:
Spatial Reference:
26986
(26986)
Single Fused Map Cache: true
Tile Info:
- Height: 256
- Width: 256
- DPI: 96
-
Levels of Detail: 19
-
Level ID: 0
[ Start Tile, End Tile ]
- Resolution: 286958.62877788505
- Scale: 1.0845680457746835E9
-
Level ID: 1
[ Start Tile, End Tile ]
- Resolution: 143479.31438894253
- Scale: 5.422840228873417E8
-
Level ID: 2
[ Start Tile, End Tile ]
- Resolution: 71739.65719447126
- Scale: 2.7114201144367087E8
-
Level ID: 3
[ Start Tile, End Tile ]
- Resolution: 35869.82859723563
- Scale: 1.3557100572183543E8
-
Level ID: 4
[ Start Tile, End Tile ]
- Resolution: 17934.914298617816
- Scale: 6.778550286091772E7
-
Level ID: 5
[ Start Tile, End Tile ]
- Resolution: 8967.457149308908
- Scale: 3.389275143045886E7
-
Level ID: 6
[ Start Tile, End Tile ]
- Resolution: 4483.728574654454
- Scale: 1.694637571522943E7
-
Level ID: 7
[ Start Tile, End Tile ]
- Resolution: 2241.864287327227
- Scale: 8473187.857614715
-
Level ID: 8
[ Start Tile, End Tile ]
- Resolution: 1120.9321436636135
- Scale: 4236593.928807357
-
Level ID: 9
[ Start Tile, End Tile ]
- Resolution: 560.4660718318067
- Scale: 2118296.9644036787
-
Level ID: 10
[ Start Tile, End Tile ]
- Resolution: 280.2330359159034
- Scale: 1059148.4822018393
-
Level ID: 11
[ Start Tile, End Tile ]
- Resolution: 140.1165179579517
- Scale: 529574.2411009197
-
Level ID: 12
[ Start Tile, End Tile ]
- Resolution: 70.05825897897584
- Scale: 264787.12055045983
-
Level ID: 13
[ Start Tile, End Tile ]
- Resolution: 35.02912948948792
- Scale: 132393.56027522992
-
Level ID: 14
[ Start Tile, End Tile ]
- Resolution: 17.51456474474396
- Scale: 66196.78013761496
-
Level ID: 15
[ Start Tile, End Tile ]
- Resolution: 8.75728237237198
- Scale: 33098.39006880748
-
Level ID: 16
[ Start Tile, End Tile ]
- Resolution: 4.37864118618599
- Scale: 16549.19503440374
-
Level ID: 17
[ Start Tile, End Tile ]
- Resolution: 2.189320593092995
- Scale: 8274.59751720187
-
Level ID: 18
[ Start Tile, End Tile ]
- Resolution: 1.0946602965464975
- Scale: 4137.298758600935
- Format: PNG
- Compression Quality: 0.0
- Origin: X: -3.653070448356929E7
Y: 3.572748920094322E7
- Spatial Reference: 26986
(26986)
Initial Extent:
XMin: 230771.1885708082
YMin: 804456.0112399993
XMax: 367046.1643291902
YMax: 873824.6437599981
Spatial Reference: 26986
(26986)
Full Extent:
XMin: 267860.4397
YMin: 807609.1308999993
XMax: 329956.91319999844
YMax: 870671.5240999982
Spatial Reference: 26986
(26986)
Units: esriMeters
Supported Image Format Types: PNG32,PNG24,PNG,JPG,DIB,TIFF,EMF,PS,PDF,GIF,SVG,SVGZ,BMP
Document Info:
Title: Risk2070
Author:
Comments:
Subject:
Category:
Keywords: Low lying roads,Cape Cod Commission
AntialiasingMode: None
TextAntialiasingMode: Force
Supports Dynamic Layers: true
MaxRecordCount: 20000
MaxImageHeight: 4096
MaxImageWidth: 4096
Supported Query Formats: JSON, geoJSON, PBF
Supports Query Data Elements: true
Min Scale: 1059148.4822018393
Max Scale: 8274.59751720187
Min LOD: 10
Max LOD: 17
Supports Datum Transformation: true
Child Resources:
Info
Dynamic Layer
Supported Operations:
Export Map
Identify
QueryDomains
QueryLegends
Find
Return Updates