View In:
  ArcGIS JavaScript
  ArcGIS Online Map Viewer
  ArcGIS Earth
  ArcMap
  ArcGIS Pro
View Footprint In:
  ArcGIS Online Map Viewer
Service Description:  These datalayers were produced by the Cape Cod Commission for the 208 Plan Update
Map Name:  208Layers
Legend
All Layers and Tables
Dynamic Legend
Dynamic All Layers
Layers: 
Description:  These datalayers were produced by the Cape Cod Commission for the 208 Plan Update
Copyright Text:  Cape Cod Commission 
Spatial Reference: 
102100
 (3857)
Single Fused Map Cache:  true
Tile Info: 
- Height: 256
 
- Width: 256
 
- DPI: 96
 
- 
Levels of Detail:  24
- 
Level ID: 1
[ Start Tile, End Tile ]
 
- Resolution: 78271.5169639999
 
- Scale: 2.95828763795777E8
 
- 
Level ID: 2
[ Start Tile, End Tile ]
 
- Resolution: 39135.7584820001
 
- Scale: 1.47914381897889E8
 
- 
Level ID: 3
[ Start Tile, End Tile ]
 
- Resolution: 19567.8792409999
 
- Scale: 7.3957190948944E7
 
- 
Level ID: 4
[ Start Tile, End Tile ]
 
- Resolution: 9783.93962049996
 
- Scale: 3.6978595474472E7
 
- 
Level ID: 5
[ Start Tile, End Tile ]
 
- Resolution: 4891.96981024998
 
- Scale: 1.8489297737236E7
- Format: PNG
 
- Compression Quality: 0.0
 
- Origin: X:  -2.0037508342787E7
Y:  2.0037508342787E7
 
- Spatial Reference: 102100
 (3857)
 
Initial Extent: 
XMin: -7935225.4153628
YMin: 5048181.530668082
XMax: -7652534.396468641
YMax: 5190306.629263574
Spatial Reference: 102100
Full Extent: 
XMin: -7901677.336782872
YMin: 5087256.906999998
XMax: -7784008.480900001
YMax: 5174589.645800002
Spatial Reference: 102100
Units:  esriMeters
Supported Image Format Types:  PNG32,PNG24,PNG,JPG,DIB,TIFF,EMF,PS,PDF,GIF,SVG,SVGZ,BMP
Document Info: 
Title: Untitled.aprx
Author: 
Comments: These datalayers were produced by the Cape Cod Commission for the 208 Plan Update
Subject: Datalayers for the 208 Plan Update produced by the Cape Cod Commission.
Category: 
Keywords: Barnstable County,Cape Cod,Cape Cod Commission,Water,Water Resources,208 Plan
AntialiasingMode: None
TextAntialiasingMode: Force
Supports Dynamic Layers:  true
MaxRecordCount:  2000
MaxImageHeight:  4096
MaxImageWidth:  4096
Supported Query Formats:  JSON, geoJSON, PBF
Supports Query Data Elements:  true
Min Scale:  1155581.108577
Max Scale:  2256.994353
Supports Datum Transformation:  true
Child Resources:
  
Info
  Dynamic Layer
 
Supported Operations:
  
Export Map
  Identify
  QueryDomains
  QueryLegends
  Find
  Return Updates